BEGIN:VCALENDAR
VERSION:2.0
PRODID:-//Teatrul Guguta - ECPv6.15.17.1//NONSGML v1.0//EN
CALSCALE:GREGORIAN
METHOD:PUBLISH
X-WR-CALNAME:Teatrul Guguta
X-ORIGINAL-URL:http://www.gugutateatru.md
X-WR-CALDESC:Events for Teatrul Guguta
REFRESH-INTERVAL;VALUE=DURATION:PT1H
X-Robots-Tag:noindex
X-PUBLISHED-TTL:PT1H
BEGIN:VTIMEZONE
TZID:UTC
BEGIN:STANDARD
TZOFFSETFROM:+0000
TZOFFSETTO:+0000
TZNAME:UTC
DTSTART:20250101T000000
END:STANDARD
END:VTIMEZONE
BEGIN:VEVENT
DTSTART;TZID=UTC:20260322T110000
DTEND;TZID=UTC:20260322T110000
DTSTAMP:20260421T091933
CREATED:20221121T094122Z
LAST-MODIFIED:20260226T123613Z
UID:3921-1774177200-1774177200@www.gugutateatru.md
SUMMARY:”PIKPOK.ONLINE@GUGUȚĂ” 2+
DESCRIPTION:Internetu-i bun și-aduce \nMult folos atunci când știm \nCum și când și la ce oră \nMai putem să-l folosim. \nVoi copii\, luați aminte\, \nNu mai credeți chiar în toate\, \nOrice info\, știri\, cuvinte \nTrebuie verificate. \n  \nAutor: Gabriela LUNGU \nRegie: Gabriela LUNGU \nÎn ditribuție: Lucia ZMUNCILĂ\, Ana STĂVILĂ\, Alina ALFEROVA\, Maria TIMOFTI\, Iurie POPA\, Alexandru SĂLI \n 
URL:http://www.gugutateatru.md/event/ziua-de-nastere-a-teatrului-guguta-premiera-pick-pock-onlineguguta-2/
LOCATION:Adresa Teatrului\, Strada Maria Dragan 1\, Chisinau\, 2052\, Moldova\, Republic of
ATTACH;FMTTYPE=image/jpeg:http://www.gugutateatru.md/wp-content/uploads/2022/11/PIKPOK.jpg
ORGANIZER;CN="Teatrul Guguta":MAILTO:info@gugutateatru.md
END:VEVENT
END:VCALENDAR