BEGIN:VCALENDAR
VERSION:2.0
PRODID:-//Teatrul Guguta - ECPv6.15.17.1//NONSGML v1.0//EN
CALSCALE:GREGORIAN
METHOD:PUBLISH
X-WR-CALNAME:Teatrul Guguta
X-ORIGINAL-URL:https://www.gugutateatru.md
X-WR-CALDESC:Events for Teatrul Guguta
REFRESH-INTERVAL;VALUE=DURATION:PT1H
X-Robots-Tag:noindex
X-PUBLISHED-TTL:PT1H
BEGIN:VTIMEZONE
TZID:UTC
BEGIN:STANDARD
TZOFFSETFROM:+0000
TZOFFSETTO:+0000
TZNAME:UTC
DTSTART:20250101T000000
END:STANDARD
END:VTIMEZONE
BEGIN:VEVENT
DTSTART;TZID=UTC:20260228T110000
DTEND;TZID=UTC:20260228T110000
DTSTAMP:20260422T091957
CREATED:20180220T091046Z
LAST-MODIFIED:20260203T105222Z
UID:2065-1772276400-1772276400@www.gugutateatru.md
SUMMARY:”LA MOARA CU PLĂCINTE”    2+
DESCRIPTION:Hei\, cuptorule-ncălzeşte\, \nPlăcințele rumeneşte\, \nPentru cine-a obosit\, \nPentru cine-a flămânzit… \nPlăcinte cu mărar\, cu brânză și cu multa voie bună. Ce-ar mai gusta din ele și Baba Cloanța\, și Tâlharul\, si Haiducul\, și Natafletii\, dar… \n  \nAutor: Iulian FILIP\nRegie: Victor ȘTEFANIUC\nScenografie: Vladimir CANTOR\nMuzică: Ilie VĂLUȚĂ\nÎn distribție: Gabriela LUNGU/Oleg Mardari\,  Lucia ZMUNCILĂ\, Maria TIMOFTI/Gabriela Lungu\, Ana STĂVILĂ\, Natalia ȘTEFANIUC\, Alexandru SĂLI\, Alina ALFEROVA\n  \n 
URL:https://www.gugutateatru.md/event/la-moara-cu-placinte-de-iu-filip/
LOCATION:Adresa Teatrului\, Strada Maria Dragan 1\, Chisinau\, 2052\, Moldova\, Republic of
ATTACH;FMTTYPE=image/jpeg:https://www.gugutateatru.md/wp-content/uploads/2018/02/MOARA_PLACINTE.jpg
ORGANIZER;CN="Teatrul Guguta":MAILTO:info@gugutateatru.md
END:VEVENT
END:VCALENDAR