BEGIN:VCALENDAR
VERSION:2.0
PRODID:-//Teatrul Guguta - ECPv6.15.17.1//NONSGML v1.0//EN
CALSCALE:GREGORIAN
METHOD:PUBLISH
X-WR-CALNAME:Teatrul Guguta
X-ORIGINAL-URL:https://www.gugutateatru.md
X-WR-CALDESC:Events for Teatrul Guguta
REFRESH-INTERVAL;VALUE=DURATION:PT1H
X-Robots-Tag:noindex
X-PUBLISHED-TTL:PT1H
BEGIN:VTIMEZONE
TZID:UTC
BEGIN:STANDARD
TZOFFSETFROM:+0000
TZOFFSETTO:+0000
TZNAME:UTC
DTSTART:20240101T000000
END:STANDARD
END:VTIMEZONE
BEGIN:VEVENT
DTSTART;TZID=UTC:20251109T110000
DTEND;TZID=UTC:20251109T110000
DTSTAMP:20260422T091501
CREATED:20200902T093838Z
LAST-MODIFIED:20251029T082031Z
UID:3249-1762686000-1762686000@www.gugutateatru.md
SUMMARY:”PARTE DREAPTĂ”   2+
DESCRIPTION:Dacă o stare de bine pentru mine este una de rău pentru tine\, iar o soluționare pozitivă pentru tine este una negativă pentru mine\, cum poți împăca două atitudini ireconciliabile\, ca toată lumea să fie împăcată? Consensul acestei dileme aparent irealizabil încearcă să-l găsească personajele din noua piesă a lui Nicolae Rusu „Parte dreaptă”. \n  \nAutor: Nicolae RUSU \nRegie: Gabriela LUNGU \nScenografie: Silvia BROVCENCO \nMuzica: Ilie VĂLUȚĂ \n  \nÎn distribuție: Gabriela LUNGU\, Ala BUHNĂ\, Alexandru SĂLI
URL:https://www.gugutateatru.md/event/parte-dreapta-varsta-2/
LOCATION:Adresa Teatrului\, Strada Maria Dragan 1\, Chisinau\, 2052\, Moldova\, Republic of
ATTACH;FMTTYPE=image/jpeg:https://www.gugutateatru.md/wp-content/uploads/2020/09/PARTEDREAPTA.jpg
ORGANIZER;CN="Teatrul Guguta":MAILTO:info@gugutateatru.md
END:VEVENT
END:VCALENDAR